BEGIN:VCALENDAR
VERSION:2.0
PRODID:-//ucpseguin.org//NONSGML kigkonsult.se iCalcreator 2.30.10//
CALSCALE:GREGORIAN
METHOD:PUBLISH
UID:cd5f9f31-1aef-4259-87f6-2acbcb350187
X-WR-CALDESC:
X-WR-RELCALID:d44eb670c8d59f7bb2b5645a45bebe86
X-WR-TIMEZONE:America/Chicago
BEGIN:VTIMEZONE
TZID:America/Chicago
BEGIN:STANDARD
TZNAME:CST
DTSTART:20261101T020000
TZOFFSETFROM:-0500
TZOFFSETTO:-0600
RDATE:20271107T020000
END:STANDARD
BEGIN:DAYLIGHT
TZNAME:CDT
DTSTART:20260308T020000
TZOFFSETFROM:-0600
TZOFFSETTO:-0500
RDATE:20270314T020000
RDATE:20280312T020000
END:DAYLIGHT
END:VTIMEZONE
BEGIN:VEVENT
UID:a4cec1e5-eb03-44db-ba8b-1cdf2692dc16
DTSTAMP:20260421T081456Z
DESCRIPTION:
DTSTART;TZID=America/Chicago:20261201T050000
DTEND;TZID=America/Chicago:20261201T050001
LOCATION:https://ucpseguin.org/get_involved/holiday_appeal.html
SUMMARY:Giving Tuesday
END:VEVENT
END:VCALENDAR
