BEGIN:VCALENDAR
VERSION:2.0
PRODID:-//ucpseguin.org//NONSGML kigkonsult.se iCalcreator 2.30.10//
CALSCALE:GREGORIAN
METHOD:PUBLISH
UID:fa52a111-2b3c-4efe-96da-ad0a2fa14cf0
X-WR-CALDESC:The UCP Seguin Stroll & Roll is a family-focused event to enga
 ge the UCP Seguin community. We will be Strolling & Rolling rain or shine 
 with three distances to choose from for all abilities and ages! Complete w
 ith a post-stroll party\, finish line medals for all\, kids' games & activ
 ities\, and much more\, the UCP Seguin Stroll & Roll will be one for the b
 ooks! Gather up your family & friends to create your own Team!
X-WR-RELCALID:3e117702d30c53551574cdbc284d125f
X-WR-TIMEZONE:America/Chicago
BEGIN:VTIMEZONE
TZID:America/Chicago
BEGIN:STANDARD
TZNAME:CST
DTSTART:20241103T020000
TZOFFSETFROM:-0500
TZOFFSETTO:-0600
RDATE:20251102T020000
RDATE:20261101T020000
END:STANDARD
BEGIN:DAYLIGHT
TZNAME:CDT
DTSTART:20250309T020000
TZOFFSETFROM:-0600
TZOFFSETTO:-0500
RDATE:20260308T020000
END:DAYLIGHT
END:VTIMEZONE
BEGIN:VEVENT
UID:c20c5dbc-f91c-4a77-bee1-1cbc6ca09e83
DTSTAMP:20260419T151037Z
DESCRIPTION:The UCP Seguin Stroll & Roll is a family-focused event to engag
 e the UCP Seguin community. We will be Strolling & Rolling rain or shine w
 ith three distances to choose from for all abilities and ages! Complete wi
 th a post-stroll party\, finish line medals for all\, kids' games & activi
 ties\, and much more\, the UCP Seguin Stroll & Roll will be one for the bo
 oks! Gather up your family & friends to create your own Team!
DTSTART;TZID=America/Chicago:20250622T093000
DTEND;TZID=America/Chicago:20250622T120000
LOCATION:North Riverside Village Commons\, 2401 S DesPlaines Avenue\, North
  Riverside\, IL 60543 US
SUMMARY:Stroll & Roll
END:VEVENT
END:VCALENDAR
