BEGIN:VCALENDAR
VERSION:2.0
PRODID:-//ucpseguin.org//NONSGML kigkonsult.se iCalcreator 2.30.10//
CALSCALE:GREGORIAN
METHOD:PUBLISH
UID:5cb5c3a8-04e1-44c7-9798-2a335d505845
X-WR-CALDESC:
X-WR-RELCALID:fdda92fe42afc72a591656d94f32e8c9
X-WR-TIMEZONE:America/Chicago
BEGIN:VTIMEZONE
TZID:America/Chicago
BEGIN:STANDARD
TZNAME:CST
DTSTART:20241103T020000
TZOFFSETFROM:-0500
TZOFFSETTO:-0600
RDATE:20251102T020000
END:STANDARD
BEGIN:DAYLIGHT
TZNAME:CDT
DTSTART:20250309T020000
TZOFFSETFROM:-0600
TZOFFSETTO:-0500
RDATE:20260308T020000
END:DAYLIGHT
END:VTIMEZONE
BEGIN:VEVENT
UID:95da9fed-d58e-4ba3-b1fe-69a55440e711
DTSTAMP:20260419T143309Z
DESCRIPTION:
DTSTART;TZID=America/Chicago:20250326T170000
DTEND;TZID=America/Chicago:20250326T190000
LOCATION:Zoom link will be provided
SUMMARY:Board Meeting
END:VEVENT
END:VCALENDAR
