BEGIN:VCALENDAR
VERSION:2.0
PRODID:-//ucpseguin.org//NONSGML kigkonsult.se iCalcreator 2.30.10//
CALSCALE:GREGORIAN
METHOD:PUBLISH
UID:008bf121-2444-46fa-a49e-def17507ac01
X-WR-CALDESC:
X-WR-RELCALID:640efbb374ca1e324a054fef915edee6
X-WR-TIMEZONE:America/Chicago
BEGIN:VTIMEZONE
TZID:America/Chicago
BEGIN:STANDARD
TZNAME:CST
DTSTART:20241103T020000
TZOFFSETFROM:-0500
TZOFFSETTO:-0600
RDATE:20251102T020000
END:STANDARD
BEGIN:DAYLIGHT
TZNAME:CDT
DTSTART:20250309T020000
TZOFFSETFROM:-0600
TZOFFSETTO:-0500
RDATE:20260308T020000
END:DAYLIGHT
END:VTIMEZONE
BEGIN:VEVENT
UID:f3dcf3ab-6592-41bb-8135-0efdfd1bd684
DTSTAMP:20260419T143449Z
DESCRIPTION:
DTSTART;TZID=America/Chicago:20250322T180000
DTEND;TZID=America/Chicago:20250322T220000
LOCATION:Chicago Marriott Oak Brook\, 1401 West 22nd Street\, Oak Brook\, I
 L 60523 US
SUMMARY:The Big Event
END:VEVENT
END:VCALENDAR
