BEGIN:VCALENDAR
VERSION:2.0
PRODID:-//ucpseguin.org//NONSGML kigkonsult.se iCalcreator 2.30.10//
CALSCALE:GREGORIAN
METHOD:PUBLISH
UID:61df4db5-8e9c-4923-bbbe-4a83f728cc6e
X-WR-CALDESC:
X-WR-RELCALID:d023aacbe8636605c9bf2bc979f79a9f
X-WR-TIMEZONE:America/Chicago
BEGIN:VTIMEZONE
TZID:America/Chicago
BEGIN:STANDARD
TZNAME:CST
DTSTART:20241103T020000
TZOFFSETFROM:-0500
TZOFFSETTO:-0600
RDATE:20251102T020000
END:STANDARD
BEGIN:DAYLIGHT
TZNAME:CDT
DTSTART:20240310T020000
TZOFFSETFROM:-0600
TZOFFSETTO:-0500
RDATE:20250309T020000
RDATE:20260308T020000
END:DAYLIGHT
END:VTIMEZONE
BEGIN:VEVENT
UID:17a17b8d-e943-4937-b51f-b42831b896b2
DTSTAMP:20260421T080424Z
DESCRIPTION:
DTSTART;TZID=America/Chicago:20250120T050000
DTEND;TZID=America/Chicago:20250120T050001
LOCATION:
SUMMARY:Dr. Martin Luther King Jr. Holiday
END:VEVENT
END:VCALENDAR
