BEGIN:VCALENDAR
VERSION:2.0
PRODID:-//ucpseguin.org//NONSGML kigkonsult.se iCalcreator 2.30.10//
CALSCALE:GREGORIAN
METHOD:PUBLISH
UID:a6a9bf08-9ef8-4c40-9f02-4bb92e805132
X-WR-CALDESC:
X-WR-RELCALID:07694fae6234fe6dbf9d3ee891c8c23e
X-WR-TIMEZONE:America/Chicago
BEGIN:VTIMEZONE
TZID:America/Chicago
BEGIN:STANDARD
TZNAME:CST
DTSTART:20241103T020000
TZOFFSETFROM:-0500
TZOFFSETTO:-0600
RDATE:20251102T020000
END:STANDARD
BEGIN:DAYLIGHT
TZNAME:CDT
DTSTART:20240310T020000
TZOFFSETFROM:-0600
TZOFFSETTO:-0500
RDATE:20250309T020000
RDATE:20260308T020000
END:DAYLIGHT
END:VTIMEZONE
BEGIN:VEVENT
UID:60d0720d-d95b-4fb8-ad9e-94120a4460b2
DTSTAMP:20260421T082834Z
DESCRIPTION:
DTSTART;TZID=America/Chicago:20241224T050000
DTEND;TZID=America/Chicago:20241225T050001
LOCATION:
SUMMARY:Christmas Holiday
END:VEVENT
END:VCALENDAR
