BEGIN:VCALENDAR
VERSION:2.0
PRODID:-//ucpseguin.org//NONSGML kigkonsult.se iCalcreator 2.30.10//
CALSCALE:GREGORIAN
METHOD:PUBLISH
UID:0e016f80-4506-48d8-a71f-8ea4e2c8f586
X-WR-CALDESC:
X-WR-RELCALID:d5e979c41c57b28bec0e6a550b189207
X-WR-TIMEZONE:America/Chicago
BEGIN:VTIMEZONE
TZID:America/Chicago
BEGIN:STANDARD
TZNAME:CST
DTSTART:20231105T020000
TZOFFSETFROM:-0500
TZOFFSETTO:-0600
RDATE:20241103T020000
RDATE:20251102T020000
END:STANDARD
BEGIN:DAYLIGHT
TZNAME:CDT
DTSTART:20240310T020000
TZOFFSETFROM:-0600
TZOFFSETTO:-0500
RDATE:20250309T020000
END:DAYLIGHT
END:VTIMEZONE
BEGIN:VEVENT
UID:27f25ede-85c4-414c-9cff-fed9c2f0150c
DTSTAMP:20260420T013211Z
DESCRIPTION:
DTSTART;TZID=America/Chicago:20240902T050000
DTEND;TZID=America/Chicago:20240902T050001
LOCATION:
SUMMARY:Labor Day Holiday
END:VEVENT
END:VCALENDAR
