BEGIN:VCALENDAR
VERSION:2.0
PRODID:-//ucpseguin.org//NONSGML kigkonsult.se iCalcreator 2.30.10//
CALSCALE:GREGORIAN
METHOD:PUBLISH
UID:ae00abb1-1ea4-424f-8614-4cf78bded7d1
X-WR-CALDESC:Join UCP Seguin and members of the Intersect For Ability colla
 borative for the 5th Annual Developmental Disabilities Awareness Night at 
 Guaranteed Rate Field.
X-WR-RELCALID:03af5f666ae9f9714ff250486c60dd2b
X-WR-TIMEZONE:America/Chicago
BEGIN:VTIMEZONE
TZID:America/Chicago
BEGIN:STANDARD
TZNAME:CST
DTSTART:20231105T020000
TZOFFSETFROM:-0500
TZOFFSETTO:-0600
RDATE:20241103T020000
RDATE:20251102T020000
END:STANDARD
BEGIN:DAYLIGHT
TZNAME:CDT
DTSTART:20240310T020000
TZOFFSETFROM:-0600
TZOFFSETTO:-0500
RDATE:20250309T020000
END:DAYLIGHT
END:VTIMEZONE
BEGIN:VEVENT
UID:beff6802-df30-4f95-a73f-ace56a4bb156
DTSTAMP:20260420T032625Z
DESCRIPTION:Join UCP Seguin and members of the Intersect For Ability collab
 orative for the 5th Annual Developmental Disabilities Awareness Night at G
 uaranteed Rate Field.
DTSTART;TZID=America/Chicago:20240827T191000
DTEND;TZID=America/Chicago:20240827T213000
LOCATION:Guaranteed Rate Field\, 333 W 35th Street\, Chicagi\, IL 60616 US
SUMMARY:5th Annual Developmental Disabilities Awareness Night
END:VEVENT
END:VCALENDAR
