BEGIN:VCALENDAR
VERSION:2.0
PRODID:-//ucpseguin.org//NONSGML kigkonsult.se iCalcreator 2.30.10//
CALSCALE:GREGORIAN
METHOD:PUBLISH
UID:08cb4b7b-5ea6-4be8-8b42-fb41918e4f07
X-WR-CALDESC:Create Life Without Limits for children and adults with disabi
 lities by joining the UCP Seguin team.\n\nPositions available throughout C
 ook and DuPage counties\; full & part time opportunities. On the spot inte
 rviews with potential same day offers! Valid driver’s license required.
X-WR-RELCALID:d37e5556dafdf5d1efc9327eaa36fd09
X-WR-TIMEZONE:America/Chicago
BEGIN:VTIMEZONE
TZID:America/Chicago
BEGIN:STANDARD
TZNAME:CST
DTSTART:20231105T020000
TZOFFSETFROM:-0500
TZOFFSETTO:-0600
RDATE:20241103T020000
RDATE:20251102T020000
END:STANDARD
BEGIN:DAYLIGHT
TZNAME:CDT
DTSTART:20240310T020000
TZOFFSETFROM:-0600
TZOFFSETTO:-0500
RDATE:20250309T020000
END:DAYLIGHT
END:VTIMEZONE
BEGIN:VEVENT
UID:17b0fed2-5a44-4208-94e0-101ad98c1c6a
DTSTAMP:20260420T032348Z
DESCRIPTION:Create Life Without Limits for children and adults with disabil
 ities by joining the UCP Seguin team.\n\nPositions available throughout Co
 ok and DuPage counties\; full & part time opportunities. On the spot inter
 views with potential same day offers! Valid driver’s license required.
DTSTART;TZID=America/Chicago:20240822T100000
DTEND;TZID=America/Chicago:20240822T130000
LOCATION:3100 S Central Avenue\, Cicero\, IL 60804 US
SUMMARY:Job Fair
END:VEVENT
END:VCALENDAR
