BEGIN:VCALENDAR
VERSION:2.0
PRODID:-//ucpseguin.org//NONSGML kigkonsult.se iCalcreator 2.30.10//
CALSCALE:GREGORIAN
METHOD:PUBLISH
UID:b8e7bb1c-f976-4f92-93bd-3dfbe8e1f895
X-WR-CALDESC:
X-WR-RELCALID:8a7dda4c4ce413c6dac69c49562e6b41
X-WR-TIMEZONE:America/Chicago
BEGIN:VTIMEZONE
TZID:America/Chicago
BEGIN:STANDARD
TZNAME:CST
DTSTART:20231105T020000
TZOFFSETFROM:-0500
TZOFFSETTO:-0600
RDATE:20241103T020000
RDATE:20251102T020000
END:STANDARD
BEGIN:DAYLIGHT
TZNAME:CDT
DTSTART:20240310T020000
TZOFFSETFROM:-0600
TZOFFSETTO:-0500
RDATE:20250309T020000
END:DAYLIGHT
END:VTIMEZONE
BEGIN:VEVENT
UID:4d908ec6-2b79-441b-b532-c859c0299a3e
DTSTAMP:20260420T050321Z
DESCRIPTION:
DTSTART;TZID=America/Chicago:20240704T050000
DTEND;TZID=America/Chicago:20240704T050001
LOCATION:
SUMMARY:Independence Day Holiday
END:VEVENT
END:VCALENDAR
