BEGIN:VCALENDAR
VERSION:2.0
PRODID:-//ucpseguin.org//NONSGML kigkonsult.se iCalcreator 2.30.10//
CALSCALE:GREGORIAN
METHOD:PUBLISH
UID:eab8b316-3d16-4940-a802-dbc9c6e78603
X-WR-CALDESC:Join us at The Big Event on March 9th in the Skyline Loft at T
 he Bridgeport Art Center as we celebrate individuals and organizations who
  have made a difference in the lives of people with disabilities.
X-WR-RELCALID:11134676bcb079cf86ca143b7d0e5d1f
X-WR-TIMEZONE:America/Chicago
BEGIN:VTIMEZONE
TZID:America/Chicago
BEGIN:STANDARD
TZNAME:CST
DTSTART:20231105T020000
TZOFFSETFROM:-0500
TZOFFSETTO:-0600
RDATE:20241103T020000
END:STANDARD
BEGIN:DAYLIGHT
TZNAME:CDT
DTSTART:20230312T020000
TZOFFSETFROM:-0600
TZOFFSETTO:-0500
RDATE:20240310T020000
RDATE:20250309T020000
END:DAYLIGHT
END:VTIMEZONE
BEGIN:VEVENT
UID:fc0a07fb-219e-4fb3-9710-2bfae879c957
DTSTAMP:20260424T113411Z
DESCRIPTION:Join us at The Big Event on March 9th in the Skyline Loft at Th
 e Bridgeport Art Center as we celebrate individuals and organizations who 
 have made a difference in the lives of people with disabilities.
DTSTART;TZID=America/Chicago:20240309T180000
DTEND;TZID=America/Chicago:20240309T220000
LOCATION:1200 W 35th Street\, Chicago\, IL 60609 US
SUMMARY:The Big Event
END:VEVENT
END:VCALENDAR
