BEGIN:VCALENDAR
VERSION:2.0
PRODID:-//ucpseguin.org//NONSGML kigkonsult.se iCalcreator 2.30.10//
CALSCALE:GREGORIAN
METHOD:PUBLISH
UID:490f8c79-b7f0-447f-bb94-2a3aead4d18d
X-WR-CALDESC:Training will take place on line and you will receive a link f
 or each night of the training on the day of the training.  The training wi
 ll be held Monday and Wednesday evenings 6:00 p.m. to 8:00 p.m.  Please lo
 g in promptly by 6:00 p.m. You will not be allowed into the training sessi
 on after 6:15 p.m. If you miss a night\, please call your Licensing Repres
 entative for a make-up date.
X-WR-RELCALID:da2a6812c2bcb385bb0cc536d64e3d84
X-WR-TIMEZONE:America/Chicago
BEGIN:VTIMEZONE
TZID:America/Chicago
BEGIN:STANDARD
TZNAME:CST
DTSTART:20231105T020000
TZOFFSETFROM:-0500
TZOFFSETTO:-0600
RDATE:20241103T020000
END:STANDARD
BEGIN:DAYLIGHT
TZNAME:CDT
DTSTART:20230312T020000
TZOFFSETFROM:-0600
TZOFFSETTO:-0500
RDATE:20240310T020000
RDATE:20250309T020000
END:DAYLIGHT
END:VTIMEZONE
BEGIN:VEVENT
UID:c69522ed-c299-4c40-b2e6-e6c59184b329
DTSTAMP:20260419T122032Z
DESCRIPTION:Training will take place on line and you will receive a link fo
 r each night of the training on the day of the training.  The training wil
 l be held Monday and Wednesday evenings 6:00 p.m. to 8:00 p.m.  Please log
  in promptly by 6:00 p.m. You will not be allowed into the training sessio
 n after 6:15 p.m. If you miss a night\, please call your Licensing Represe
 ntative for a make-up date.
DTSTART;TZID=America/Chicago:20240131T180000
DTEND;TZID=America/Chicago:20240131T200000
LOCATION:
SUMMARY:Introduction to Case Management/Confidentiality/ACR/Visitations/Dis
 cipline/Juvenile Court Adoptions/Permanency
END:VEVENT
END:VCALENDAR
