BEGIN:VCALENDAR
VERSION:2.0
PRODID:-//ucpseguin.org//NONSGML kigkonsult.se iCalcreator 2.30.10//
CALSCALE:GREGORIAN
METHOD:PUBLISH
UID:4b620e31-f990-4154-bac9-2e8955c06263
X-WR-CALDESC:
X-WR-RELCALID:49cf91de8a0d81734ce7021e15d72afb
X-WR-TIMEZONE:America/Chicago
BEGIN:VTIMEZONE
TZID:America/Chicago
BEGIN:STANDARD
TZNAME:CST
DTSTART:20231105T020000
TZOFFSETFROM:-0500
TZOFFSETTO:-0600
RDATE:20241103T020000
END:STANDARD
BEGIN:DAYLIGHT
TZNAME:CDT
DTSTART:20230312T020000
TZOFFSETFROM:-0600
TZOFFSETTO:-0500
RDATE:20240310T020000
RDATE:20250309T020000
END:DAYLIGHT
END:VTIMEZONE
BEGIN:VEVENT
UID:7cef9b4c-4a09-4be1-a069-b5361c06f86c
DTSTAMP:20260419T153804Z
DESCRIPTION:
DTSTART;TZID=America/Chicago:20240115T050000
DTEND;TZID=America/Chicago:20240115T050001
LOCATION:
SUMMARY:Dr. Martin Luther King Jr. Holiday
END:VEVENT
END:VCALENDAR
