BEGIN:VCALENDAR
VERSION:2.0
PRODID:-//ucpseguin.org//NONSGML kigkonsult.se iCalcreator 2.30.10//
CALSCALE:GREGORIAN
METHOD:PUBLISH
UID:b3a08c06-9f56-44e3-9189-b5153cc6adb8
X-WR-CALDESC:
X-WR-RELCALID:2e3c59c20df11e11ade0be2988fffcb2
X-WR-TIMEZONE:America/Chicago
BEGIN:VTIMEZONE
TZID:America/Chicago
BEGIN:STANDARD
TZNAME:CST
DTSTART:20231105T020000
TZOFFSETFROM:-0500
TZOFFSETTO:-0600
RDATE:20241103T020000
END:STANDARD
BEGIN:DAYLIGHT
TZNAME:CDT
DTSTART:20230312T020000
TZOFFSETFROM:-0600
TZOFFSETTO:-0500
RDATE:20240310T020000
RDATE:20250309T020000
END:DAYLIGHT
END:VTIMEZONE
BEGIN:VEVENT
UID:aa19e073-ff83-463f-afa1-13caea95e15b
DTSTAMP:20260419T212255Z
DESCRIPTION:
DTSTART;TZID=America/Chicago:20231226T000000
DTEND;TZID=America/Chicago:20231226T235900
LOCATION:In observance of Christmas\, all UCP Seguin office locations will 
 be closed
SUMMARY:Christmas Holiday
END:VEVENT
END:VCALENDAR
