BEGIN:VCALENDAR
VERSION:2.0
PRODID:-//ucpseguin.org//NONSGML kigkonsult.se iCalcreator 2.30.10//
CALSCALE:GREGORIAN
METHOD:PUBLISH
UID:b40ece5a-ab47-40e1-bc36-37cad330fae7
X-WR-CALDESC:
X-WR-RELCALID:8fbd853f38863de7a08cc9bd5158cdd4
X-WR-TIMEZONE:America/Chicago
BEGIN:VTIMEZONE
TZID:America/Chicago
BEGIN:STANDARD
TZNAME:CST
DTSTART:20231105T020000
TZOFFSETFROM:-0500
TZOFFSETTO:-0600
RDATE:20241103T020000
END:STANDARD
BEGIN:DAYLIGHT
TZNAME:CDT
DTSTART:20230312T020000
TZOFFSETFROM:-0600
TZOFFSETTO:-0500
RDATE:20240310T020000
RDATE:20250309T020000
END:DAYLIGHT
END:VTIMEZONE
BEGIN:VEVENT
UID:dfd32918-921a-4ba7-9b0d-b681bc254b11
DTSTAMP:20260419T213227Z
DESCRIPTION:
DTSTART;TZID=America/Chicago:20231225T000000
DTEND;TZID=America/Chicago:20231225T235900
LOCATION:In observance of Christmas\, all UCP Seguin office locations will 
 be closed
SUMMARY:Christmas Holiday
END:VEVENT
END:VCALENDAR
