BEGIN:VCALENDAR
VERSION:2.0
PRODID:-//ucpseguin.org//NONSGML kigkonsult.se iCalcreator 2.30.10//
CALSCALE:GREGORIAN
METHOD:PUBLISH
UID:319dcacd-eeeb-4bf6-9f19-7fe03acdb802
X-WR-CALDESC:All Secret Santa gifts are due to UCP Seguin no later than Wed
 nesday\, December 13th. Gifts may be dropped off at the Carr Center\, 3100
  S Central Avenue\, or Seguin Gardens & Gifts\, 5621 W 31st Street\, both 
 in Cicero.
X-WR-RELCALID:16e5d72f63c98ce23e2a895a4207f1ac
X-WR-TIMEZONE:America/Chicago
BEGIN:VTIMEZONE
TZID:America/Chicago
BEGIN:STANDARD
TZNAME:CST
DTSTART:20231105T020000
TZOFFSETFROM:-0500
TZOFFSETTO:-0600
RDATE:20241103T020000
END:STANDARD
BEGIN:DAYLIGHT
TZNAME:CDT
DTSTART:20230312T020000
TZOFFSETFROM:-0600
TZOFFSETTO:-0500
RDATE:20240310T020000
RDATE:20250309T020000
END:DAYLIGHT
END:VTIMEZONE
BEGIN:VEVENT
UID:6ac75974-e6b1-4d5b-9b4c-9f26abe87918
DTSTAMP:20260420T011733Z
DESCRIPTION:All Secret Santa gifts are due to UCP Seguin no later than Wedn
 esday\, December 13th. Gifts may be dropped off at the Carr Center\, 3100 
 S Central Avenue\, or Seguin Gardens & Gifts\, 5621 W 31st Street\, both i
 n Cicero.
DTSTART;TZID=America/Chicago:20231213T050000
DTEND;TZID=America/Chicago:20231213T050001
LOCATION:3100 S Central Avenue\, Cicero\, IL 60804 US
SUMMARY:Secret Santa Deadline
END:VEVENT
END:VCALENDAR
