BEGIN:VCALENDAR
VERSION:2.0
PRODID:-//ucpseguin.org//NONSGML kigkonsult.se iCalcreator 2.30.10//
CALSCALE:GREGORIAN
METHOD:PUBLISH
UID:f159cbb5-0376-46d8-ae51-d56033fc82ef
X-WR-CALDESC:UCP Seguin Adult Participants are invited to celebrate the hol
 idays with us at the 52nd Annual Cindy Carr Memorial Holiday Party for UCP
  Seguin hosted by The Carr Family.
X-WR-RELCALID:6af1a82ad82ab1857952aa3f2864995f
X-WR-TIMEZONE:America/Chicago
BEGIN:VTIMEZONE
TZID:America/Chicago
BEGIN:STANDARD
TZNAME:CST
DTSTART:20231105T020000
TZOFFSETFROM:-0500
TZOFFSETTO:-0600
RDATE:20241103T020000
END:STANDARD
BEGIN:DAYLIGHT
TZNAME:CDT
DTSTART:20230312T020000
TZOFFSETFROM:-0600
TZOFFSETTO:-0500
RDATE:20240310T020000
RDATE:20250309T020000
END:DAYLIGHT
END:VTIMEZONE
BEGIN:VEVENT
UID:53f71892-76ba-4b2c-bfb8-74e06f7c4298
DTSTAMP:20260424T170228Z
DESCRIPTION:UCP Seguin Adult Participants are invited to celebrate the holi
 days with us at the 52nd Annual Cindy Carr Memorial Holiday Party for UCP 
 Seguin hosted by The Carr Family.
DTSTART;TZID=America/Chicago:20231202T103000
DTEND;TZID=America/Chicago:20231202T123000
LOCATION:The Max\, 4700 Vernon Ave\, McCook\, IL 60525 US
SUMMARY:Carr Holiday Party
END:VEVENT
END:VCALENDAR
