BEGIN:VCALENDAR
VERSION:2.0
PRODID:-//ucpseguin.org//NONSGML kigkonsult.se iCalcreator 2.30.10//
CALSCALE:GREGORIAN
METHOD:PUBLISH
UID:1fae4f69-7fb8-425a-a01c-e12fea59f8be
X-WR-CALDESC:
X-WR-RELCALID:49987d9b5b940b2d05952e51f86e024f
X-WR-TIMEZONE:America/Chicago
BEGIN:VTIMEZONE
TZID:America/Chicago
BEGIN:STANDARD
TZNAME:CST
DTSTART:20231105T020000
TZOFFSETFROM:-0500
TZOFFSETTO:-0600
RDATE:20241103T020000
END:STANDARD
BEGIN:DAYLIGHT
TZNAME:CDT
DTSTART:20230312T020000
TZOFFSETFROM:-0600
TZOFFSETTO:-0500
RDATE:20240310T020000
RDATE:20250309T020000
END:DAYLIGHT
END:VTIMEZONE
BEGIN:VEVENT
UID:b022c825-118a-4157-ac05-b3265329d775
DTSTAMP:20260424T183831Z
DESCRIPTION:
DTSTART;TZID=America/Chicago:20231128T000000
DTEND;TZID=America/Chicago:20231128T235900
LOCATION:https://ucpseguin.org/get_involved/donate.html
SUMMARY:Giving Tuesday
END:VEVENT
END:VCALENDAR
