BEGIN:VCALENDAR
VERSION:2.0
PRODID:-//ucpseguin.org//NONSGML kigkonsult.se iCalcreator 2.30.10//
CALSCALE:GREGORIAN
METHOD:PUBLISH
UID:41d830d7-1de9-4ec0-8810-7d2d7e1b850b
X-WR-CALDESC:
X-WR-RELCALID:b388188b76d7c37aeb427437bfb3baa5
X-WR-TIMEZONE:America/Chicago
BEGIN:VTIMEZONE
TZID:America/Chicago
BEGIN:STANDARD
TZNAME:CST
DTSTART:20231105T020000
TZOFFSETFROM:-0500
TZOFFSETTO:-0600
RDATE:20241103T020000
END:STANDARD
BEGIN:DAYLIGHT
TZNAME:CDT
DTSTART:20230312T020000
TZOFFSETFROM:-0600
TZOFFSETTO:-0500
RDATE:20240310T020000
RDATE:20250309T020000
END:DAYLIGHT
END:VTIMEZONE
BEGIN:VEVENT
UID:b6e5267f-388e-421c-a94a-91e474ae6f8c
DTSTAMP:20260424T183837Z
DESCRIPTION:
DTSTART;TZID=America/Chicago:20231123T000000
DTEND;TZID=America/Chicago:20231123T235900
LOCATION:In observance of Thanksgiving\, all UCP Seguin office locations wi
 ll be closed
SUMMARY:Thanksgiving Holiday
END:VEVENT
END:VCALENDAR
